BEGIN:VCALENDAR
VERSION:2.0
PRODID:-//תותיז - ECPv5.6.0//NONSGML v1.0//EN
CALSCALE:GREGORIAN
METHOD:PUBLISH
X-WR-CALNAME:תותיז
X-ORIGINAL-URL:https://www.tutys.co.il
X-WR-CALDESC:אירועים ל תותיז
BEGIN:VTIMEZONE
TZID:Europe/Helsinki
BEGIN:DAYLIGHT
TZOFFSETFROM:+0200
TZOFFSETTO:+0300
TZNAME:EEST
DTSTART:20180325T010000
END:DAYLIGHT
BEGIN:STANDARD
TZOFFSETFROM:+0300
TZOFFSETTO:+0200
TZNAME:EET
DTSTART:20181028T010000
END:STANDARD
END:VTIMEZONE
BEGIN:VEVENT
DTSTART;TZID=Europe/Helsinki:20180724T093000
DTEND;TZID=Europe/Helsinki:20180724T133000
DTSTAMP:20210528T070954
CREATED:20180625T092803Z
LAST-MODIFIED:20180625T092803Z
UID:10350-1532424600-1532439000@www.tutys.co.il
SUMMARY:בוקר של כיף לאמהות ואמהות שבדרך
DESCRIPTION:הכנו לכן בוקר קייצי ממוזג ומהנה תוכן מקצועי מעולם ההנקה \, עיצובים ופינוקים? \nהחל מהשעה 9:30 יעמדו לרשותכן רותי יפעת עם ׳הכי מעוצב׳ ׳הכי מותאם׳ ׳והכי יצירתי׳.\nמה זה אומר? \nיפעת מביאה אלינו את הקו המוכר והאהוב של אמהות עיצובים בגדי הריון והנקה מעוצבים\, זה יהיה בדיוק הזמן להתחדש לקיץ. \nרותי מגיעה עם חזיות ההנקה המגוונות והנפלאות של תותיז ועם מלא מלא סבלנות להתאים\, לייעץ\, ולעזור כדי שתצאו בדיוק עם חזיית ההנקה שמתאימה לכן. \nרגע עוד לא סיימנו❤️\nגם הרצאה וגם אוכל לנשנש וגם… \nמבטיחות להמשיך ולעדכן בימים הקרובים????\nבינתיים סמנו שאתן מגיעות פה באיוונט\, שתוכלו להתעדכן \,וכמובן שתפו וספרו לחברות? \nהבוקר יהיה ללא עלות\nיש צורך בהרשמה מראש \nלהבטחת מקומכן אנא השאירו הודעת וואטסאפ בטלפון-\n054-5336438 \nנא להגיע בלי עגלה ?\nכן עם תינוקות\, פשוט לא צריך עגלות
URL:https://www.tutys.co.il/event/%d7%91%d7%95%d7%a7%d7%a8-%d7%a9%d7%9c-%d7%9b%d7%99%d7%a3-%d7%9c%d7%90%d7%9e%d7%94%d7%95%d7%aa-%d7%95%d7%90%d7%9e%d7%94%d7%95%d7%aa-%d7%a9%d7%91%d7%93%d7%a8%d7%9a/
LOCATION:מרחב לנשים לאחר לידה\, אבני חושן 58\, מודיעין\, Israel
ATTACH;FMTTYPE=image/jpeg:https://www.tutys.co.il/wp-content/uploads/2018/06/cover-photo-facebook-event-24-7.jpg
END:VEVENT
END:VCALENDAR